BEGIN:VCALENDAR
VERSION:2.0
PRODID:-//Watereducatie.nl//NONSGML kigkonsult.se iCalcreator 2.41.92//
CALSCALE:GREGORIAN
METHOD:PUBLISH
UID:32333265-3430-4564-a662-323366323666
X-WR-CALNAME:iCagenda
X-WR-CALDESC:Event Management Extension for Joomla!
X-WR-RELCALID:3E26604A-50F4-4449-8B3E-E4F4932D05B5
X-WR-TIMEZONE:Europe/Amsterdam
BEGIN:VTIMEZONE
TZID:Europe/Amsterdam
TZUNTIL:20251026T010000Z
BEGIN:STANDARD
TZNAME:CET
DTSTART:20231029T030000
TZOFFSETFROM:+0200
TZOFFSETTO:+0100
RDATE:20241027T030000
END:STANDARD
BEGIN:DAYLIGHT
TZNAME:CEST
DTSTART:20230326T020000
TZOFFSETFROM:+0100
TZOFFSETTO:+0200
RDATE:20240331T020000
RDATE:20250330T020000
END:DAYLIGHT
END:VTIMEZONE
BEGIN:VEVENT
UID:65316266-3536-4066-b038-666130326537
DTSTAMP:20260422T170344Z
CATEGORIES:Algemeen
CLASS:PUBLIC
DESCRIPTION;ALTREP="CID:<FFFF__=0ABBE548DFE235B58f9e8a93d@coffeebean.com>":
 Op de Wereld Waterdag worden overheden opgeroepen om acties te ondernemen 
 om de bevolking schoner en veiliger (en soms gewoon meer) drinkwater aan t
 e bieden. Dit jaar is het thema ‘Water for Peace’.
DTSTART:20240322T075400Z
DTEND:20240322T225400Z
GEO:00;0
LOCATION:
ORGANIZER:
SEQUENCE:1
SUMMARY:Wereld Waterdag
TRANSP:OPAQUE
URL:https://watereducatie.nl/agenda/wereld-waterdag
END:VEVENT
END:VCALENDAR
