BEGIN:VCALENDAR
VERSION:2.0
PRODID:-//Watereducatie.nl//NONSGML kigkonsult.se iCalcreator 2.41.92//
CALSCALE:GREGORIAN
METHOD:PUBLISH
UID:35396333-3161-4363-b163-323530363735
X-WR-CALNAME:iCagenda
X-WR-CALDESC:Event Management Extension for Joomla!
X-WR-RELCALID:3E26604A-50F4-4449-8B3E-E4F4932D05B5
X-WR-TIMEZONE:Europe/Amsterdam
BEGIN:VTIMEZONE
TZID:Europe/Amsterdam
TZUNTIL:20241027T010000Z
BEGIN:STANDARD
TZNAME:CET
DTSTART:20221030T030000
TZOFFSETFROM:+0200
TZOFFSETTO:+0100
RDATE:20231029T030000
END:STANDARD
BEGIN:DAYLIGHT
TZNAME:CEST
DTSTART:20220327T020000
TZOFFSETFROM:+0100
TZOFFSETTO:+0200
RDATE:20230326T020000
RDATE:20240331T020000
END:DAYLIGHT
END:VTIMEZONE
BEGIN:VEVENT
UID:35393362-3065-4232-a630-646536346637
DTSTAMP:20260424T164820Z
CATEGORIES:Algemeen
CLASS:PUBLIC
DESCRIPTION;ALTREP="CID:<FFFF__=0ABBE548DFE235B58f9e8a93d@coffeebean.com>":
 Ben jij al aan het tegelwippen? Het NK Tegelwippen is ook dit jaar weer in
  volle gang bezig. Onze leefomgeving is sterk versteend en dat heeft veel 
 risico’s met oog op de klimaatcrisis. Weinig groen in je buurt kan waterov
 erlast veroorzaken omdat water niet weg kan stromen en het riool overbelas
 t. Extremer weer zoals heftige regenbuien versterken dit. Genoeg redenen d
 us om die tegels eruit te wippen en groen te planten! Doe ook mee in jouw 
 gemeente.
DTSTART:20230321T084600Z
DTEND:20231031T084700Z
GEO:00;0
LOCATION:
ORGANIZER:
SEQUENCE:1
SUMMARY:NK Tegelwippen
TRANSP:OPAQUE
URL:https://watereducatie.nl/agenda/nk-tegelwippen?layout=vcal
END:VEVENT
END:VCALENDAR
